BEGIN:VCALENDAR
VERSION:2.0
PRODID:-//Carbon Engineering - ECPv6.0.3//NONSGML v1.0//EN
CALSCALE:GREGORIAN
METHOD:PUBLISH
X-WR-CALNAME:Carbon Engineering
X-ORIGINAL-URL:https://carbonengineering.com
X-WR-CALDESC:Events for Carbon Engineering
REFRESH-INTERVAL;VALUE=DURATION:PT1H
X-Robots-Tag:noindex
X-PUBLISHED-TTL:PT1H
BEGIN:VTIMEZONE
TZID:America/Toronto
BEGIN:DAYLIGHT
TZOFFSETFROM:-0500
TZOFFSETTO:-0400
TZNAME:EDT
DTSTART:20210314T070000
END:DAYLIGHT
BEGIN:STANDARD
TZOFFSETFROM:-0400
TZOFFSETTO:-0500
TZNAME:EST
DTSTART:20211107T060000
END:STANDARD
TZID:America/Vancouver
BEGIN:DAYLIGHT
TZOFFSETFROM:-0800
TZOFFSETTO:-0700
TZNAME:PDT
DTSTART:20210314T100000
END:DAYLIGHT
BEGIN:STANDARD
TZOFFSETFROM:-0700
TZOFFSETTO:-0800
TZNAME:PST
DTSTART:20211107T090000
END:STANDARD
TZID:America/Chicago
BEGIN:DAYLIGHT
TZOFFSETFROM:-0600
TZOFFSETTO:-0500
TZNAME:CDT
DTSTART:20210314T080000
END:DAYLIGHT
BEGIN:STANDARD
TZOFFSETFROM:-0500
TZOFFSETTO:-0600
TZNAME:CST
DTSTART:20211107T070000
END:STANDARD
TZID:America/Edmonton
BEGIN:DAYLIGHT
TZOFFSETFROM:-0700
TZOFFSETTO:-0600
TZNAME:MDT
DTSTART:20210314T090000
END:DAYLIGHT
BEGIN:STANDARD
TZOFFSETFROM:-0600
TZOFFSETTO:-0700
TZNAME:MST
DTSTART:20211107T080000
END:STANDARD
TZID:Europe/London
BEGIN:DAYLIGHT
TZOFFSETFROM:+0000
TZOFFSETTO:+0100
TZNAME:BST
DTSTART:20210328T010000
END:DAYLIGHT
BEGIN:STANDARD
TZOFFSETFROM:+0100
TZOFFSETTO:+0000
TZNAME:GMT
DTSTART:20211031T010000
END:STANDARD
TZID:Atlantic/Reykjavik
BEGIN:STANDARD
TZOFFSETFROM:+0000
TZOFFSETTO:+0000
TZNAME:GMT
DTSTART:20210101T000000
END:STANDARD
END:VTIMEZONE
BEGIN:VEVENT
DTSTART;TZID=America/Toronto:20210921T130000
DTEND;TZID=America/Toronto:20210921T143000
DTSTAMP:20230126T230658
CREATED:20210901T225110Z
LAST-MODIFIED:20210901T225144Z
UID:3714-1632229200-1632234600@carbonengineering.com
SUMMARY:Scaling Carbon Dioxide Removal: Limitations and Potential
DESCRIPTION:The recent Sixth Assessment Report of the Intergovernmental Panel on Climate Change (IPCC) has underscored the urgency to expand the use of carbon sinks to avoid the most drastic effects of climate change. The IPCC report estimates that carbon dioxide removal (CDR) solutions will be necessary to meet the goals of the Paris Agreement and limit warming to 1.5 degrees C—with little to no overshoot—by the end of the century. However\, the current pace of development of CDR solutions is still lagging to meet global climate goals. \nIn this webinar\, experts will discuss the potential role of nature-based and technological CDR solutions in future comprehensive decarbonization strategies\, overcoming barriers for large-scale deployment of CDR\, and how environmental justice can be embedded in CDR frameworks. \nDATE |\nSeptember 21\, 2021\, 1:00 pm – 2:30 pm (EST) \nRegister here. \n \n— \n\n\n\nMahmoud Abouelnaga — Moderator\nSOLUTIONS FELLOW\, CENTER FOR CLIMATE AND ENERGY SOLUTIONS\n\n\n\nPanel: CDR solutions and pathways for large-scale deployment\n\n\n\nLori Guetre\nVICE PRESIDENT OF BUSINESS DEVELOPMENT\, CARBON ENGINEERING\, LTD.\n\n\n\n\n\n\nPeter Ellis\nGLOBAL DIRECTOR OF CLIMATE SCIENCE\, THE NATURE CONSERVANCY\n\n\n\n\n\n\nElizabeth Willmott\nCARBON PROGRAM DIRECTOR\, MICROSOFT CORPORATION\n\n\n\nPotential effects of CDR on carbon cycles\n\n\n\nDr. Charles Koven\nEARTH SYSTEM SCIENTIST\, LAWRENCE BERKELEY NATIONAL LABORATORY\nLead Author for the IPCC’s Sixth Assessment\n\n\n\nPublic perception of CDR and environmental justice as part of the CDR agenda\n\n\n\nDr. Sallie Greenberg\nPRINCIPAL SCIENTIST – ENERGY & MINERALS ILLINOIS STATE GEOLOGICAL SURVEY\n\n\n\n\n\n\nJanet Peace\nCHIEF OF ADVISORY SERVICES\, BLUESOURCE LLC\n\n\n\n\n\n\nDr. Rudra Kapila\nSENIOR POLICY ADVISOR FOR CARBON MANAGEMENT\, THIRD WAY
URL:https://carbonengineering.com/event/scaling-carbon-dioxide-removal-limitations-and-potential/
LOCATION:Online
ATTACH;FMTTYPE=image/png:https://carbonengineering.com/wp-content/uploads/2021/09/f991b794-8100-43d5-ac73-a884312619d4.png
END:VEVENT
BEGIN:VEVENT
DTSTART;VALUE=DATE:20210919
DTEND;VALUE=DATE:20210923
DTSTAMP:20230126T230658
CREATED:20210920T151248Z
LAST-MODIFIED:20210920T151248Z
UID:3751-1632009600-1632355199@carbonengineering.com
SUMMARY:Airline Economics | Aviation and the Environment Conference
DESCRIPTION:Powering the aviation revolution by providing a large-scale forum where airlines\, investors\, finance houses\, traders\, law firms\, aftermarket providers and large manufacturers come together with next generation market leaders\, entrepreneurs\, start-ups and technology firms – Together shaping the future of the aviation sector. \nWhen: September 19-22\, 2021 \nWhere: Central Hall Westminster\, London UK \n\nTune in to see CE’s VP Europe\, Amy Ruddock\, speaking at… \n12:05 BST (Sept. 21) | Key Segment: SAF Panel – Aviation Fuel and the Future \nSustainable Aviation Fuels have a critical role to play in the decarbonisation of aviation in coming decades\, owing to their significantly lower lifecycle impact on global warming than conventional jet fuel.  Attend this session to learn about the different sources of value that SAFs offer and how this minimises the premium cost compared to conventional fuels.  The panel will also discuss how to invest strategically and how to evaluate the different financial characteristics of each certified SAF pathway technology. \nModerator: Alastair Blanshard\, Sustainable Aviation Lead\, ICF \nPanel: Mike McCurdy – Managing Director\, Fuels & Power\, ICF/ Daniel J. Shapiro. Co-Founder and Managing Partner\, Fidelis Infrastructure/ Sara Bogdan\, Director\, Head of Sustainability and ESG\, JetBlue / Amy Ruddock\, VP Europe\, Carbon Engineering Ltd
URL:https://carbonengineering.com/event/airline-economics-aviation-and-the-environment-conference/
LOCATION:London\, UK
ATTACH;FMTTYPE=image/png:https://carbonengineering.com/wp-content/uploads/2021/09/ESGGlobal_EventFeatureImage.png
END:VEVENT
BEGIN:VEVENT
DTSTART;VALUE=DATE:20210914
DTEND;VALUE=DATE:20210916
DTSTAMP:20230126T230658
CREATED:20210901T215314Z
LAST-MODIFIED:20210901T215314Z
UID:3675-1631577600-1631750399@carbonengineering.com
SUMMARY:Direct Air Capture Summit 2021
DESCRIPTION:The Direct Air Capture Summit is a platform designed for business leaders that would like to better understand and discuss high-quality carbon removal solutions\, such as direct air capture. The private sector plays a key role in driving forward climate solutions and the summit highlights this by bringing together industry experts\, project developers and opinion leaders. \nWhen: September 14 – 15\, 2021 \nWhere: Hybrid with full online access \nJoin the discussion and secure your spot: https://climeworks.com/direct-air-capture-summit \nDirect air capture kick-off: 14th September 2021\, 17:00 – 19:30 CEST / 8:00 – 10:30am PT\n\n\n\nDirect air capture session #1\n\n\n\nChristoph Gebald & Jan Wurzbacher\, founders & CEOs\, Climeworks\nAmy Ruddock\, VP Europe\, Carbon Engineering\nNicholas Eisenberger\, Senior Advisor to the Board of Global Thermostat\n\n\n\n\nDirect air capture session #2\n\n\n\nMatt Atwood\, CEO\, AirCapture\nJonas Lee\, COO\, CarbonCapture\nHans de Neve\, CEO\, Carbyon\nShashank Samala\, CEO\, Heirloom\nNicholas Chadwick\, CEO\, Mission Zero Technologies\nPetri Laakso\, CEO\, Soletair Power\n\n\n\n\n\n\nMain event: 15th September 2021\, 14:00 – 19:00 CEST / 5:00 – 10:00am PT\n\n\n\nOpening keynote\n\n\n\nProf. Dr. Reto Knutti\, ETH Zurich\n\n\n\n\nNature-based solutions and ecology\n\n\n\nProf. Dr. Tom Crowther\, Crowther Lab\n\n\n\n\nNegative emissions technologies session\n\n\n\nPeter Reinhardt\, CEO\, Charm Industrial\nChristoph Gebald & Jan Wurzbacher\, CEOs\, Climeworks\n\n\n\n\nCorporate carbon removal portfolios session\n\n\n\nStacy Kauk\, Director Sustainability Fund\, Shopify\nMischa Repmann\, Senior Environmental Mgmt Specialist\, Swiss Re\nJens Burchardt\, Global Expert on Climate\, BCG​
URL:https://carbonengineering.com/event/direct-air-capture-summit-2021/
LOCATION:Online
ATTACH;FMTTYPE=image/png:https://carbonengineering.com/wp-content/uploads/2021/09/DirectAirCaptureSummit.png
END:VEVENT
BEGIN:VEVENT
DTSTART;VALUE=DATE:20210914
DTEND;VALUE=DATE:20210917
DTSTAMP:20230126T230658
CREATED:20210813T215118Z
LAST-MODIFIED:20210813T215118Z
UID:3651-1631577600-1631836799@carbonengineering.com
SUMMARY:COMVEC™ 2021: Energy\, Sustainability\, and the Future of Commercial Vehicle Transportation
DESCRIPTION:COMVEC™ has always been the premier North American conference spanning the on-highway\, agricultural\, construction\, industrial\, military and mining sectors. While we remain focused on advancing the industry towards increased fuel efficiencies and a more diverse propulsion portfolio of commercial vehicles\, you’ll also connect with industry leaders with strategies to balance today’s technology costs\, development efforts and current economic conditions. \nThe convening point for engineering professionals around the world seeking new solutions for Energy Balance and Future Transportation\, COMVEC 2021 is where you’ll learn what others are doing to overcome supply chain challenges in today’s environment and meet the experts driving the latest research and innovations in new powertrain options\, autonomous vehicles\, braking\, platooning and more. \nRegister here: https://www.sae.org/attend/comvec/registration \n— \nTune in to hear from Carbon Engineering… \nWednesday\, September 15\nLivestream: Environment\, Regulations\, and Infrastructure: Alternative Fuel Powertrains and Applications\n(Session Code: CV103) \nRoom Ballroom A/B/C/D (In-Person & Livestream)  1:30 p.m. \nAs the ICE will continue to be used in the market for years to come\, alternative fuels offer the opportunity to lower total carbon footprint of commercial vehicle fleets. We will hear from the alternative fuel suppliers describing which fuels they believe will help the market\, and what problems they are experiencing with market adoption\, infrastructure needs\, and regulatory requirements. \nModerators: \n\nCraig Barnes\, CAB Consulting LLC\n\nPanelists: \n\nChristopher Bliley\, Growth Energy\nChad Lindholm\, Clean Energy Fuels\nCarrie Song\, Neste US Inc.\nAnna Stukas\, Carbon Engineering\, Ltd.\n\n 
URL:https://carbonengineering.com/event/comvec-2021-energy-sustainability-and-the-future-of-commercial-vehicle-transportation/
LOCATION:Rosemont\, IL or Online
ATTACH;FMTTYPE=image/png:https://carbonengineering.com/wp-content/uploads/2021/08/COMVEC-2021-Image.png
END:VEVENT
BEGIN:VEVENT
DTSTART;VALUE=DATE:20210913
DTEND;VALUE=DATE:20210916
DTSTAMP:20230126T230658
CREATED:20210907T211600Z
LAST-MODIFIED:20210907T211751Z
UID:3727-1631491200-1631750399@carbonengineering.com
SUMMARY:10th International Congress on Sustainability Science & Engineering
DESCRIPTION:The 10th International Congress on Sustainability Science & Engineering serves as the international platform for innovation in sustainability science and engineering to discuss the trends towards greater sustainability. \nFull event program here: https://icosse.org/2021/technical-program \nRegister here: https://icosse.org/2021/registration-info \nAIChE is the world’s leading organization for chemical engineering professionals\, with more than 60\,000 members from more than 110 countries. AIChE has the breadth of resources and expertise you need whether you are in core process industries or emerging areas\, such as translational medicine. \n— \nSee Carbon Engineering VP Business Development\, Anna Stukas\, speak on…\nDECARBONIZATION\nThis session will feature perspectives and current research on approaches to decarbonize the diverse processes of the manufacturing and industrial sectors. \n\nSeptember 14\, 2021\n3:20 – 4:50 PM EST\n\nAlongside industry experts\, including: \n\nLuca Mastropasqua (University of California\, Irvine)\nSteve Csonka (Commercial Aviation Alternative Fuels Initiative)\nKim Tutin (Captis Aire)\nMichael C. Stern (Exponent\, Inc.)\nSarah Ye (Lanzatech)
URL:https://carbonengineering.com/event/10th-international-congress-on-sustainability-science-engineering/
LOCATION:Online
ATTACH;FMTTYPE=image/png:https://carbonengineering.com/wp-content/uploads/2021/09/ICOSSE21_Logo.png
END:VEVENT
BEGIN:VEVENT
DTSTART;TZID=America/Edmonton:20210817T104500
DTEND;TZID=America/Edmonton:20210817T114500
DTSTAMP:20230126T230658
CREATED:20210813T211638Z
LAST-MODIFIED:20210813T215603Z
UID:3637-1629197100-1629200700@carbonengineering.com
SUMMARY:PNWER Annual Summit
DESCRIPTION:The PNWER Annual Summit is the leading forum where people in the policy world and the business world come together to figure out solutions to regional challenges. Regional legislators\, business leaders\, and key decision makers will come together in Big Sky\, Montana\, and virtually on August 15-19\, 2021 to explore shared challenges in the region\, discuss best practices\, strengthen regional relationships\, and develop action plans for addressing these challenges in the future.\n\n\n—\n\n\nTune in to hear from Carbon Engineering… \n\nSession 9: Innovative Technologies to Address Energy and Infrastructure Challenges\n\n\nTue Aug 17\, 2021 \n10:45 AM – 11:45 AM \n\n Missouri Ballroom\, Yellowstone Conference Center (or virtually)\n  \nIn light of the energy challenges addressed in the previous sessions\, what are some of the innovations that will help us to address our shared energy challenges and decarbonization goals? This session will showcase the exciting new and emerging energy technologies and efforts underway. \n\nModerator: Dave Bennett\, Director of Renewable Gas & Low Carbon Fuels\, FortisBC\nKate Chisholm\, Senior Vice President of Planning & Stakeholder Relations and Chief Sustainability Officer\, Capital Power\nAnna Stukas\, VP of Business Development\, Carbon Engineering (virtual)\nJason Thackston\, Senior Vice President\, Energy Resources\, Avista\n\nEnergy & Environment Working Group Co-chairs: \n\nMLA Rick Glumac\, Legislative Assembly of British Columbia\nPaul Manson\, CEO\, DC Grid Development Corporation\n\n— \nRegistration: https://web.cvent.com/event/77bc70c2-6005-47e7-bad7-afe455a95229/summary \n\nVirtual attendance: $75\n1-Day in-person attendance: $190\nNon-member full summit rate: $600 (members receive $50 discount)\n\n 
URL:https://carbonengineering.com/event/pnwer-annual-summit-virtual-and-in-person/
LOCATION:Yellowstone Conference Center\, (Virtual Options Available)\, United States
ATTACH;FMTTYPE=image/png:https://carbonengineering.com/wp-content/uploads/2021/08/Capture-7-PNWERSummit.png
END:VEVENT
BEGIN:VEVENT
DTSTART;TZID=America/Toronto:20210812T140000
DTEND;TZID=America/Toronto:20210812T150000
DTSTAMP:20230126T230658
CREATED:20210806T191641Z
LAST-MODIFIED:20210806T191641Z
UID:3598-1628776800-1628780400@carbonengineering.com
SUMMARY:How to Drive Cross-Sector Innovation for Clean Transportation
DESCRIPTION:The transportation sector accounts for the largest percentage of US greenhouse gas emissions. In order to meet our climate targets\, we must invest in innovation across every mode of transportation to unlock the next generation of EV batteries\, demonstrate battery- and hydrogen-powered trucks and locomotives\, and develop new feedstocks for sustainable aviation fuels. \nPlease join Third Way for a virtual event on Thursday\, August 12\, at 2:00 PM ET to discuss how increased cooperation between the public and private sectors can help accelerate innovation in clean transportation\, establish US leadership in clean energy\, and meet our climate goals. We’ll hear from industry experts at Toyota\, General Motors\, Carbon Engineering\, and the Association of American Railroads. \nKeynote Speaker:\nMichael Berube\,\nDeputy Assistant Secretary for Sustainable Transportation\, Office of Energy Efficiency and Renewable Energy\nU.S. Department of Energy \nModerator:\nAlex Laska\nTransportation Policy Advisor\nThird Way Climate and Energy Program \nPanelists:\nLori Guetre\nVice President\, Business Development\,\nCarbon Engineering Ltd. \nJordan Stone\nAssistant Vice President\, Government Affairs\nAssociation of American Railroads \nMichael Maten\nSenior Strategist-EV and Energy Policy\nGeneral Motors Company \nAndrew Lund\, Chief Engineer\nZero Emission Vehicles\nAdvanced Product Planning Office\nToyota Motor North America\, Inc. \nModerated by:\nArianna Skibell\nClimate & Transportation Reporter\nE&E News
URL:https://carbonengineering.com/event/how-to-drive-cross-sector-innovation-for-clean-transportation/
LOCATION:Online
ATTACH;FMTTYPE=image/png:https://carbonengineering.com/wp-content/uploads/2021/08/How-to-Drive-Cross-Sector-Innovation-for-Clean-Transportation-02.png
ORGANIZER;CN="Third%20Party":MAILTO:mcoglianese@thirdway.org
END:VEVENT
BEGIN:VEVENT
DTSTART;TZID=America/Vancouver:20210714T120000
DTEND;TZID=America/Vancouver:20210714T133000
DTSTAMP:20230126T230658
CREATED:20210712T212119Z
LAST-MODIFIED:20210712T212640Z
UID:3495-1626264000-1626269400@carbonengineering.com
SUMMARY:Achieving Net Zero with Direct Air Capture
DESCRIPTION:Limiting global warming to 1.5 degrees C will require that billions of tons of carbon dioxide be removed from the atmosphere. Technologies like Direct Air Capture (DAC)\, which can be deployed globally at megaton-scale\, will play a critical role in achieving this target. This talk will review DAC technologies\, sequestration and utilization options\, and the economic development potential from the build-out of this clean infrastructure. \nLori Guetre is a VP of Business Development at Carbon Engineering where she has spent the last three years working on commercializing Direct Air Capture\, an exciting technology poised to become one of the keys to solving global climate change. Lori previously spent 26 years in engineering\, project management\, corporate finance\, strategy\, and business development in the aerospace sector. Lori holds a bachelor’s degree in computer engineering and a master’s in electrical engineering. \n— \nThe Science and Engineering Council (SEC) of Santa Barbara is a non-profit organization devoted to providing interaction among individuals\, companies\, and institutions engaged in scientific and engineering activities within Santa Barbara County. The monthly luncheon event program provides a forum for topics of interest and an opportunity for meeting fellow engineers\, scientists\, and business professionals. \n 
URL:https://carbonengineering.com/event/net-zero-with-direct-air-capture/
LOCATION:Online
END:VEVENT
BEGIN:VEVENT
DTSTART;VALUE=DATE:20210705
DTEND;VALUE=DATE:20210710
DTSTAMP:20230126T230658
CREATED:20210712T214933Z
LAST-MODIFIED:20210712T215243Z
UID:3503-1625443200-1625875199@carbonengineering.com
SUMMARY:FOCUS! Teacher’s Climate Change Collaborative
DESCRIPTION:The FOCUS! Teacher’s Climate Change Collaborative is an immersive\, learning experience involving British Columbia secondary school teachers and resource guests who will develop an enhanced understanding of climate change topics for the classroom.  The 5-day Focus! Teacher’s Climate Change Collaborative aims to achieve the following goals: \n\nCreate innovative pedagogical strategies that foster a STEAM (Science\, Technology\, Engineering\, Arts and Mathematics) approach in the classroom;\nEmpower teachers to share their enthusiasm\, knowledge and inspiration for new school-wide initiatives; and\,\nDevelop a community of like-minded colleagues to seek reflective feedback on student learning activities\, awareness and action.\n\nIf you are a British Columbia secondary school teacher (Grade 8-12) who is: \n\nPassionate about teaching and learning;\nExperimental with your pedagogical approaches;\nExcited by multidisciplinary learning modules;\nCreative in delivering climate change content;\nCurious about what others are doing;\nWanting to deepen your own knowledge about climate change;\nInspired by the innovations and actions of others;\nReflective about the opportunities for\, and challenges presented by\, teaching climate change content;\nDriven to empower student learning; and\,\nWilling to immerse in a week-long collaborative design process.\n\nTeachers in both BC public and independent school systems are eligible to apply. \n 
URL:https://carbonengineering.com/event/focus-teachers-climate-change-collaborative/
LOCATION:Online
ATTACH;FMTTYPE=image/png:https://carbonengineering.com/wp-content/uploads/2021/07/Focus_TeacherCollaborative.png
ORGANIZER;CN="The%20Kimberley%20Foundation":MAILTO:info@kimberley-foundation.org
END:VEVENT
BEGIN:VEVENT
DTSTART;TZID=Europe/London:20210701T140000
DTEND;TZID=Europe/London:20210701T153000
DTSTAMP:20230126T230658
CREATED:20210624T163311Z
LAST-MODIFIED:20210624T163550Z
UID:3407-1625148000-1625153400@carbonengineering.com
SUMMARY:The Coalition for Negative Emissions Webinar
DESCRIPTION:The Coalition for Negative Emissions aims to build momentum\, shape policy\, and develop the market for negative emissions globally. We are made up of a diverse range of companies across industries\, from landowners and environmental stewards\, large users and generators of energy\, to technology start-ups and large manufacturers. We work across differing sectors of global economies\, but we share a common vision: to develop and deploy negative emissions at a scale that will create genuine impact across the world. \nTo reach Paris Agreement goals\, sectors such as aviation\, heavy engineering and agriculture must decarbonise by 2050. But technical and commercial barriers mean it will be impossible for these industries to entirely reduce their carbon and other greenhouse gas emissions in time. Instead\, we must also look to ways we can actively remove them. \nNegative emissions are a proven\, scalable set of solutions that offer the opportunity to remove greenhouse gas emissions from the atmosphere\, slow the effects of climate change and enable industries to continue to thrive. By taking action to deploy negative emissions today we can advance the world towards an environmentally prosperous\, economically progressive\, net zero future. \nThis webinar will discuss the findings of the Coalition for Negative Emissions’ landmark report ‘the case for negative emissions’\, including speakers from the Coalition membership and McKinsey Sustainability\, who acted as knowledge partners for the report. \nConfirmed Speakers: \n\nEmma Gibbs\, Partner\, McKinsey\nKarl Smyth\, Group Head of BECCS Strategy and Engagement\, Drax\nDr Amy Ruddock\, VP- Europe\, Carbon Engineering\nChristopher Beuttler\, Head of Climate Policy\, Climeworks\nMatt Prescott\, Head of Carbon Strategy & Innovation\, Heathrow Airport\nJonathon Counsell\, Group Head of Sustainability\, IAG\nOthers TBC
URL:https://carbonengineering.com/event/the-coalition-for-negative-emissions-webinar/
LOCATION:Online
ATTACH;FMTTYPE=image/jpeg:https://carbonengineering.com/wp-content/uploads/2021/06/London-Climate-Action-Week-Event.jpg
END:VEVENT
BEGIN:VEVENT
DTSTART;TZID=Europe/London:20210624T083000
DTEND;TZID=Europe/London:20210624T190000
DTSTAMP:20230126T230658
CREATED:20210616T162142Z
LAST-MODIFIED:20210702T151939Z
UID:3368-1624523400-1624561200@carbonengineering.com
SUMMARY:Innovation and Investment in Energy Summit
DESCRIPTION:View event recording here.  \nWelcome to the Innovation & Investment in Energy Summit\, a senior-level forum for those changing the face of the global energy sector. As the energy industry accelerates towards a lower carbon future what will the energy mix be and who will finance the changes? What innovations will speed up the track to net zero? Is there a silver bullet or will a hybrid approach prevail? What role will the fossil fuel industry play in the investment in innovation and investment for the future? In-depth panel discussions with live audience-driven Q&A\, keynote presentations and face to face networking. Join this event to stay on the cutting edge of what’s next for energy. \nCarbon Engineering’s VP Europe\, Dr. Amy Ruddock\, will be discussing our megatonne-scale Direct Air Capture projects during the Infrastructure: Major Net Zero Projects Under Development session at 1:10 pm.
URL:https://carbonengineering.com/event/innovation-and-investment-in-energy-summit/
LOCATION:Online
ATTACH;FMTTYPE=image/jpeg:https://carbonengineering.com/wp-content/uploads/2021/06/Frontier-Energy-Network.jpg
END:VEVENT
BEGIN:VEVENT
DTSTART;TZID=Atlantic/Reykjavik:20210622T140000
DTEND;TZID=Atlantic/Reykjavik:20210622T150000
DTSTAMP:20230126T230658
CREATED:20210616T160837Z
LAST-MODIFIED:20210628T192452Z
UID:3361-1624370400-1624374000@carbonengineering.com
SUMMARY:Exploring Greenhouse Gas Removals and their role in delivering Net Zero
DESCRIPTION:View recording of this webinar here.  \nThe CCSA is delighted to invite you to our next webinar on \n“Exploring Greenhouse Gas Removals and their role in delivering Net Zero”. \nThis webinar will take place on Tuesday 22nd June at 14.00 GMT. \nIf you are interested in joining this webinar\, please register here. \nYou will then receive an email with the joining link. \nIt is widely recognised that Carbon Capture\, Utilisation and Storage (CCUS) will be critical to reaching Net Zero and will contribute to the decarbonisation of industry\, power and hydrogen production. \nCCUS also unlocks a key method of greenhouse gas removal through sustainable bioenergy with CCS (BECCS) and Direct Air Capture with storage (DACS). \nGreenhouse Gas Removals are increasingly becoming a central part of the net zero narrative due to their ability to remove emissions from the atmosphere\, thereby tackling residual emissions\, legacy emissions\, as well as providing a vital decarbonisation solution for harder-to-mitigate sectors such as aviation. Indeed the Climate Change Committee\, in their Sixth Carbon Budget Report\, emphasised the importance of scaling up GHG removals across applications such as Energy from Waste\, power\, biohydrogen\, biofuels and biomass in industry – to ensure the UK remains on track to achieve its climate goals. \nThis webinar provides the opportunity to hear from the Climate Change Committee itself on the Sixth Carbon Budget and the role for GHG removals\, as well as the developer of a BECCS project and DAC technology provider to a UK project and a view from the aviation sector that are considering GHG removals as part of their decarbonisation pathway. \nWe are delighted to be joined by a number of speakers\, including: \n\nDavid Joffe\, Head of Carbon Budgets at the Climate Change Committee. The Climate Change Committee (CCC) is an independent\, statutory body that advises the UK and devolved governments on emissions targets and reports to Parliament on progress made in reducing greenhouse gas emissions. The CCC have consistently emphasised the vital role that CCUS must play in meeting the UK’s net zero target. In their report “Net Zero – The UK’s contribution to stopping global warming”\, the CCC stated that “CCS is a necessity not an option for reaching net-zero GHG emissions“.\n\n  \n\nDr. Amy Ruddock\, VP Europe at Carbon Engineering Ltd. Carbon Engineering (CE) is deploying Direct Air Capture (DAC) technology at megatonne scale. The regenerative process uses standard industrial equipment assembled on site meaning plants can be rapidly deployed and a full local supply chain is developed. In the US the world’s largest DACS facility is due online in 2024. In the UK\, CE and Storegga plan to deploy a commercial DACS facility in North East Scotland. Construction could begin in 2024. One plant does the work of around 40 million trees but with significantly less water and land use.\n\n  \n\nKarl Smyth\, Group Head of BECCS Strategy & Engagement at Drax. Drax Group plc (Drax) is a UK-based renewable energy company. In 2019 Drax announced a world-leading ambition to be carbon negative by 2030\, using Bioenergy with Carbon Capture and Storage (BECCS). To do this\, Drax is piloting the groundbreaking negative emissions technology BECCS within its CCUS Incubation Area and in March kicked off the planning process to deploy two BECCS units at Drax Power Station in the 2020s. Work to build Drax’s first two BECCS units could be underway by 2024 and would deliver at least 8 Mt of negative emissions and the UK’s largest carbon capture project.\n\n  \n\nDr. Andy Jefferson\, Programme Director Sustainable Aviation. Sustainable Aviation is a long term strategy which sets out the collective approach of UK aviation to tackling the challenge of ensuring a cleaner\, quieter\, smarter future for the aviation industry. Launched in 2005\, it is a world first bringing together major UK airlines\, airports\, manufacturers\, air navigation service providers and key business partners. The ‘Carbon Road-Map’ sets out the key ways aviation can achieve net zero emissions by 2050. Investing in carbon removal solutions will be critical but there is a need to work with others to best achieve this.\n\n  \nFollowing these presentations\, a Q&A session will commence\, dictated by the meeting Chair. The webinar chat function will be used for question entries and queries. \n 
URL:https://carbonengineering.com/event/exploring-greenhouse-gas-removals-and-their-role-in-delivering-net-zero/
LOCATION:Online
ATTACH;FMTTYPE=image/jpeg:https://carbonengineering.com/wp-content/uploads/2021/06/CCSA.jpg
END:VEVENT
END:VCALENDAR